Workbook

Sheet str.1
B2: Příloha č. 2 Provozní a mzdové náklady služby na rok 2026 Rozpočet služby pro rok 2026 + požadavek od města Litoměřice
B3: Název organizace/poskytovatele:
B4: Název služby:
B5: Identifikátor služby:
B6: Nákladová položka | D6: Skutečné náklady za rok 2023 | E6: Poskytnutá dotace města Litoměřice 2023 | F6: Skutečné náklady za rok 2024 | G6: Poskytnutá dotace města Litoměřice 2024 | H6: Skutečné náklady za rok 2025 | I6: Poskytnutá dotace města Litoměřice 2025 | J6: Předpokládané Náklady v roce 2026 | K6: Požadovaná dotace od města Litoměřice pro rok 2026
B7: 1. Mzdové náklady | D7: =SUM(D8+D10+D9) -> 0 | E7: =SUM(E8+E10+E9) -> 0 | F7: =SUM(F8+F10+F9) -> 0 | G7: =SUM(G8+G10+G9) -> 0 | H7: =SUM(H8+H10+H9) -> 0 | I7: =SUM(I8+I10+I9) -> 0 | J7: =SUM(J8+J10+J9) -> 0 | K7: =SUM(K8+K10+K9) -> 0
B8: 1.1 Hrubé mzdy zaměstnanců celkem | D8: 0 | E8: 0 | F8: 0 | G8: 0 | H8: 0 | I8: 0 | J8: 0 | K8: 0
B9: 1.2 Odvody zaměstnavatele na sociální a zdravotní pojištění | D9: 0 | E9: 0 | F9: 0 | G9: 0 | H9: 0 | I9: 0 | J9: 0 | K9: 0
B10: 1.3 Ostatní osobní náklady celkem (DPČ, DPP) | D10: 0 | E10: 0 | F10: 0 | G10: 0 | H10: 0 | I10: 0 | J10: 0 | K10: 0
B11: 2. Provozní náklady | D11: =SUM(D12+D15+D19+D27+D31+D36+D44) -> 0 | E11: =SUM(E12+E15+E19+E27+E31+E36+E44) -> 0 | F11: =SUM(F12+F15+F19+F27+F31+F36+F44) -> 0 | G11: =SUM(G12+G15+G19+G27+G31+G36+G44) -> 0 | H11: =SUM(H12+H15+H19+H27+H31+H36+H44) -> 0 | I11: =SUM(I12+I15+I19+I27+I31+I36+I44) -> 0 | J11: =SUM(J12+J15+J19+J27+J31+J36+J44) -> 0 | K11: =SUM(K12+K15+K19+K27+K31+K36+K44) -> 0
B12: 2.1 Materiálové náklady | D12: =SUM(D13+D14) -> 0 | E12: =SUM(E13+E14) -> 0 | F12: =SUM(F13+F14) -> 0 | G12: =SUM(G13+G14) -> 0 | H12: =SUM(H13+H14) -> 0 | I12: =SUM(I13+I14) -> 0 | J12: =SUM(J13+J14) -> 0 | K12: =SUM(K13+K14) -> 0
B13: vybavení (DHIM) | D13: 0 | E13: 0 | F13: 0 | G13: 0 | H13: 0 | I13: 0 | J13: 0 | K13: 0
B14: kancelářské potřeby | D14: 0 | E14: 0 | F14: 0 | G14: 0 | H14: 0 | I14: 0 | J14: 0 | K14: 0
B15: 2.2 Energie | D15: =SUM(D16+D17+D18) -> 0 | E15: =SUM(E16+E17+E18) -> 0 | F15: =SUM(F16+F17+F18) -> 0 | G15: =SUM(G16+G17+G18) -> 0 | H15: =SUM(H16+H17+H18) -> 0 | I15: =SUM(I16+I17+I18) -> 0 | J15: =SUM(J16+J17+J18) -> 0 | K15: =SUM(K16+K17+K18) -> 0
B16: plyn | D16: 0 | E16: 0 | F16: 0 | G16: 0 | H16: 0 | I16: 0 | J16: 0 | K16: 0
B17: elektřina | D17: 0 | E17: 0 | F17: 0 | G17: 0 | H17: 0 | I17: 0 | J17: 0 | K17: 0
B18: vodné, stočné | D18: 0 | E18: 0 | F18: 0 | G18: 0 | H18: 0 | I18: 0 | J18: 0 | K18: 0
B19: 2.3 Služby (konkretizujte) | D19: =SUM(D20+D21+D22+D23+D24+D25+D26) -> 0 | E19: =SUM(E20+E21+E22+E23+E24+E25+E26) -> 0 | F19: =SUM(F20+F21+F22+F23+F24+F25+F26) -> 0 | G19: =SUM(G20+G21+G22+G23+G24+G25+G26) -> 0 | H19: =SUM(H20+H21+H22+H23+H24+H25+H26) -> 0 | I19: =SUM(I20+I21+I22+I23+I24+I25+I26) -> 0 | J19: =SUM(J20+J21+J22+J23+J24+J25+J26) -> 0 | K19: =SUM(K20+K21+K22+K23+K24+K25+K26) -> 0
D20: 0 | E20: 0 | F20: 0 | G20: 0 | H20: 0 | I20: 0 | J20: 0 | K20: 0
D21: 0 | E21: 0 | F21: 0 | G21: 0 | H21: 0 | I21: 0 | J21: 0 | K21: 0
D22: 0 | E22: 0 | F22: 0 | G22: 0 | H22: 0 | I22: 0 | J22: 0 | K22: 0
D23: 0 | E23: 0 | F23: 0 | G23: 0 | H23: 0 | I23: 0 | J23: 0 | K23: 0
D24: 0 | E24: 0 | F24: 0 | G24: 0 | H24: 0 | I24: 0 | J24: 0 | K24: 0
D25: 0 | E25: 0 | F25: 0 | G25: 0 | H25: 0 | I25: 0 | J25: 0 | K25: 0
D26: 0 | E26: 0 | F26: 0 | G26: 0 | H26: 0 | I26: 0 | J26: 0 | K26: 0
B27: 2.4 Cestovné | D27: =SUM(D28+D29+D30) -> 0 | E27: =SUM(E28+E29+E30) -> 0 | F27: =SUM(F28+F29+F30) -> 0 | G27: =SUM(G28+G29+G30) -> 0 | H27: =SUM(H28+H29+H30) -> 0 | I27: =SUM(I28+I29+I30) -> 0 | J27: =SUM(J28+J29+J30) -> 0 | K27: =SUM(K28+K29+K30) -> 0
B28: cestovní příkazy | D28: 0 | E28: 0 | F28: 0 | G28: 0 | H28: 0 | I28: 0 | J28: 0 | K28: 0
B29: jízdné pro klienty | D29: 0 | E29: 0 | F29: 0 | G29: 0 | H29: 0 | I29: 0 | J29: 0 | K29: 0
B30: pohonné hmoty | D30: 0 | E30: 0 | F30: 0 | G30: 0 | H30: 0 | I30: 0 | J30: 0 | K30: 0
B31: 2.5 Oprava a údržba (konkretizujte) | D31: =SUM(D32+D33+D34+D35) -> 0 | E31: =SUM(E32+E33+E34+E35) -> 0 | F31: =SUM(F32+F33+F34+F35) -> 0 | G31: =SUM(G32+G33+G34+G35) -> 0 | H31: =SUM(H32+H33+H34+H35) -> 0 | I31: =SUM(I32+I33+I34+I35) -> 0 | J31: =SUM(J32+J33+J34+J35) -> 0 | K31: =SUM(K32+K33+K34+K35) -> 0
D32: 0 | E32: 0 | F32: 0 | G32: 0 | H32: 0 | I32: 0 | J32: 0 | K32: 0
D33: 0 | E33: 0 | F33: 0 | G33: 0 | H33: 0 | I33: 0 | J33: 0 | K33: 0
D34: 0 | E34: 0 | F34: 0 | G34: 0 | H34: 0 | I34: 0 | J34: 0 | K34: 0
D35: 0 | E35: 0 | F35: 0 | G35: 0 | H35: 0 | I35: 0 | J35: 0 | K35: 0
B36: 2.6 Služby | D36: =SUM(D37+D38+D39+D40+D41+D42+D43) -> 0 | E36: =SUM(E37+E38+E39+E40+E41+E42+E43) -> 0 | F36: =SUM(F37+F38+F39+F40+F41+F42+F43) -> 0 | G36: =SUM(G37+G38+G39+G40+G41+G42+G43) -> 0 | H36: =SUM(H37+H38+H39+H40+H41+H42+H43) -> 0 | I36: =SUM(I37+I38+I39+I40+I41+I42+I43) -> 0 | J36: =SUM(J37+J38+J39+J40+J41+J42+J43) -> 0 | K36: =SUM(K37+K38+K39+K40+K41+K42+K43) -> 0
B37: Telefon | D37: 0 | E37: 0 | F37: 0 | G37: 0 | H37: 0 | I37: 0 | J37: 0 | K37: 0
B38: Poštovné | D38: 0 | E38: 0 | F38: 0 | G38: 0 | H38: 0 | I38: 0 | J38: 0 | K38: 0
B39: Internet | D39: 0 | E39: 0 | F39: 0 | G39: 0 | H39: 0 | I39: 0 | J39: 0 | K39: 0
B40: Nájemné | D40: 0 | E40: 0 | F40: 0 | G40: 0 | H40: 0 | I40: 0 | J40: 0 | K40: 0
B41: Právní a ekonomické služby | D41: 0 | E41: 0 | F41: 0 | G41: 0 | H41: 0 | I41: 0 | J41: 0 | K41: 0
...

Sheet str.2
B2: Název organizace/poskytovatele: | C2: =REPT(str.1!D3,1)
B3: Sociální služba: | C3: =REPT(str.1!D4,1)
B4: Identifikátor soc. služby: | C4: =REPT(str.1!D5,1)
B6: Přehled zaměstnanců podílejících se na realizaci služby - pracovní poměr (mzdu počítejte dle jednotlivých úvazků)
B7: Pracovní zařezení | C7: úvazek | D7: hrubá mzda/měsíc | E7: odvody (soc.+zdrav.)/ měsíc | F7: celkem (hrubá mzda+ odvody)/měsíc | G7: celkem (hrubá mzda + odvody)/rok
F8: =D8+E8 -> 0 | G8: =F8*12 -> 0
F9: =D9+E9 -> 0 | G9: =F9*12 -> 0
F10: =D10+E10 -> 0 | G10: =F10*12 -> 0
F11: =D11+E11 -> 0 | G11: =F11*12 -> 0
F12: =D12+E12 -> 0 | G12: =F12*12 -> 0
F13: =D13+E13 -> 0 | G13: =F13*12 -> 0
F14: =D14+E14 -> 0 | G14: =F14*12 -> 0
F15: =D15+E15 -> 0 | G15: =F15*12 -> 0
F16: =D16+E16 -> 0 | G16: =F16*12 -> 0
F17: =D17+E17 -> 0 | G17: =F17*12 -> 0
F18: =D18+E18 -> 0 | G18: =F18*12 -> 0
F19: =D19+E19 -> 0 | G19: =F19*12 -> 0
... F24: =D24+E24 -> 0 | G24: =F24*12 -> 0
B25: Do tabulky uvádějte čísla týkající se jedné osoby dle konkrétního úvazku (stav ke dni vyplnění žádosti)
B26: Uvádějte veškerý personál vázaný na danou službu - včetně vedoucího služby, ředitele, správce budovy, atd.
B28: Přehled zaměstnanců podílejících se na realizaci služby - dohody o pracovních činnostech - DPČ
B29: Pracovní zařezení | C29: úvazek | D29: hrubá mzda/měsíc | E29: odvody (soc.+zdrav.)/ měsíc | F29: celkem (hrubá mzda+ odvody)/měsíc | G29: celkem (hrubá mzda + odvody)/rok
F30: =D30+E30 -> 0 | G30: =F30*12 -> 0
F31: =D31+E31 -> 0 | G31: =F31*12 -> 0
F32: =D32+E32 -> 0 | G32: =F32*12 -> 0
F33: =D33+E33 -> 0 | G33: =F33*12 -> 0
F34: =D34+E34 -> 0 | G34: =F34*12 -> 0
F35: =D35+E35 -> 0 | G35: =F35*12 -> 0
F36: =D36+E36 -> 0 | G36: =F36*12 -> 0
F37: =D37+E37 -> 0 | G37: =F37*12 -> 0
F38: =D38+E38 -> 0 | G38: =F38*12 -> 0
F39: =D39+E39 -> 0 | G39: =F39*12 -> 0
F40: =D40+E40 -> 0 | G40: =F40*12 -> 0
F41: =D41+E41 -> 0 | G41: =F41*12 -> 0
... F46: =D46+E46 -> 0 | G46: =F46*12 -> 0
B47: Do tabulky uvádějte čísla týkající se jedné osoby (stav ke dni vyplnění žádosti)
B49: Dne
B51: Podpis statutárního zástupce, otisk razítka:

Sheet str. 3
B2: Název organizace/poskytovatele: | C2: =REPT(str.1!D3,1)
B3: Sociální služba: | C3: =REPT(str.1!D4,1) | D3: =REPT(str.1!D3,1)
B4: Identifikátor soc. služby: | C4: =REPT(str.1!D5,1) | D4: =REPT(str.1!D4,1)
B6: Přehled zaměstnanců podílejících se na realizaci služby - dohody o provedení práce - DPP
B7: Profese | C7: počet hodin | D7: za rok celkem v KČ
B25: Do tabulky uvádějte čísla týkající se jedné osoby (stav ke dni podání žádosti)
B27: Dne
B29: Podpis statutárního zástupce, otisk razítka:
